BEGIN:VCALENDAR
VERSION:2.0
PRODID:-//Interhab - ECPv6.15.11//NONSGML v1.0//EN
CALSCALE:GREGORIAN
METHOD:PUBLISH
X-WR-CALNAME:Interhab
X-ORIGINAL-URL:https://interhab.org
X-WR-CALDESC:Events for Interhab
REFRESH-INTERVAL;VALUE=DURATION:PT1H
X-Robots-Tag:noindex
X-PUBLISHED-TTL:PT1H
BEGIN:VTIMEZONE
TZID:America/Chicago
BEGIN:DAYLIGHT
TZOFFSETFROM:-0600
TZOFFSETTO:-0500
TZNAME:CDT
DTSTART:20250309T080000
END:DAYLIGHT
BEGIN:STANDARD
TZOFFSETFROM:-0500
TZOFFSETTO:-0600
TZNAME:CST
DTSTART:20251102T070000
END:STANDARD
BEGIN:DAYLIGHT
TZOFFSETFROM:-0600
TZOFFSETTO:-0500
TZNAME:CDT
DTSTART:20260308T080000
END:DAYLIGHT
BEGIN:STANDARD
TZOFFSETFROM:-0500
TZOFFSETTO:-0600
TZNAME:CST
DTSTART:20261101T070000
END:STANDARD
BEGIN:DAYLIGHT
TZOFFSETFROM:-0600
TZOFFSETTO:-0500
TZNAME:CDT
DTSTART:20270314T080000
END:DAYLIGHT
BEGIN:STANDARD
TZOFFSETFROM:-0500
TZOFFSETTO:-0600
TZNAME:CST
DTSTART:20271107T070000
END:STANDARD
END:VTIMEZONE
BEGIN:VEVENT
DTSTART;TZID=America/Chicago:20260701T130000
DTEND;TZID=America/Chicago:20260701T140000
DTSTAMP:20260420T221437
CREATED:20260203T202528Z
LAST-MODIFIED:20260203T202528Z
UID:21383-1782910800-1782914400@interhab.org
SUMMARY:Grassroots Advocacy Committee Meeting
DESCRIPTION:
URL:https://interhab.org/event/grassroots-advocacy-committee-meeting-6/
END:VEVENT
BEGIN:VEVENT
DTSTART;TZID=America/Chicago:20260701T160000
DTEND;TZID=America/Chicago:20260701T170000
DTSTAMP:20260420T221437
CREATED:20260408T220930Z
LAST-MODIFIED:20260408T220930Z
UID:21788-1782921600-1782925200@interhab.org
SUMMARY:Advocacy Informational Session
DESCRIPTION:Zoom Link: \nhttps://us02web.zoom.us/j/85276762400?pwd=Oh2SORIaGi7slytrfDkIhP7HGEW2WZ.1\nMeeting ID: 852 7676 2400\nPasscode: 827026
URL:https://interhab.org/event/advocacy-informational-session-7/
END:VEVENT
BEGIN:VEVENT
DTSTART;TZID=America/Chicago:20260702T153000
DTEND;TZID=America/Chicago:20260702T163000
DTSTAMP:20260420T221437
CREATED:20260203T203459Z
LAST-MODIFIED:20260203T203459Z
UID:21405-1783006200-1783009800@interhab.org
SUMMARY:DSP+ Monthly Touch Base
DESCRIPTION:
URL:https://interhab.org/event/dsp-monthly-touch-base-6/
END:VEVENT
BEGIN:VEVENT
DTSTART;TZID=America/Chicago:20260707T100000
DTEND;TZID=America/Chicago:20260707T120000
DTSTAMP:20260420T221437
CREATED:20260102T171416Z
LAST-MODIFIED:20260102T171416Z
UID:21138-1783418400-1783425600@interhab.org
SUMMARY:Financial Resource Network Meeting
DESCRIPTION:
URL:https://interhab.org/event/financial-resource-network-meeting-17/
END:VEVENT
BEGIN:VEVENT
DTSTART;TZID=America/Chicago:20260708T100000
DTEND;TZID=America/Chicago:20260708T160000
DTSTAMP:20260420T221437
CREATED:20260204T195432Z
LAST-MODIFIED:20260204T195432Z
UID:21498-1783504800-1783526400@interhab.org
SUMMARY:Leadership InterHab Session 4
DESCRIPTION:
URL:https://interhab.org/event/leadership-interhab-session-4/
LOCATION:Wichita\, KS
END:VEVENT
BEGIN:VEVENT
DTSTART;TZID=America/Chicago:20260709T100000
DTEND;TZID=America/Chicago:20260709T110000
DTSTAMP:20260420T221437
CREATED:20260204T193520Z
LAST-MODIFIED:20260204T193520Z
UID:21486-1783591200-1783594800@interhab.org
SUMMARY:InterHab Training: How to Advocate for Clients’ Health
DESCRIPTION:
URL:https://interhab.org/event/interhab-training-how-to-advocate-for-clients-health/
END:VEVENT
BEGIN:VEVENT
DTSTART;TZID=America/Chicago:20260709T100000
DTEND;TZID=America/Chicago:20260709T110000
DTSTAMP:20260420T221437
CREATED:20260403T173016Z
LAST-MODIFIED:20260403T173016Z
UID:21755-1783591200-1783594800@interhab.org
SUMMARY:Quarterly Fire Marshal Meeting
DESCRIPTION:Join Zoom Meeting\nhttps://us02web.zoom.us/j/84076645743?pwd=SEK0hyJWRlregAMJzCBW4GnayIaEs3.1 \nMeeting ID: 840 7664 5743\nPasscode: 002240 \n— \nOne tap mobile\n+16694449171\,\,84076645743# US
URL:https://interhab.org/event/quarterly-fire-marshal-meeting/
END:VEVENT
BEGIN:VEVENT
DTSTART;TZID=America/Chicago:20260723T100000
DTEND;TZID=America/Chicago:20260723T150000
DTSTAMP:20260420T221437
CREATED:20260311T203404Z
LAST-MODIFIED:20260311T203404Z
UID:21685-1784800800-1784818800@interhab.org
SUMMARY:Employment Resource Network Meeting
DESCRIPTION:
URL:https://interhab.org/event/employment-resource-network-meeting-11/
END:VEVENT
BEGIN:VEVENT
DTSTART;TZID=America/Chicago:20260727T113000
DTEND;TZID=America/Chicago:20260727T123000
DTSTAMP:20260420T221437
CREATED:20251030T200745Z
LAST-MODIFIED:20251030T200745Z
UID:20797-1785151800-1785155400@interhab.org
SUMMARY:Children's Resource Network Meeting
DESCRIPTION:
URL:https://interhab.org/event/childrens-resource-network-meeting-6/
END:VEVENT
END:VCALENDAR