BEGIN:VCALENDAR
VERSION:2.0
PRODID:-//Interhab - ECPv6.15.11//NONSGML v1.0//EN
CALSCALE:GREGORIAN
METHOD:PUBLISH
X-WR-CALNAME:Interhab
X-ORIGINAL-URL:https://interhab.org
X-WR-CALDESC:Events for Interhab
REFRESH-INTERVAL;VALUE=DURATION:PT1H
X-Robots-Tag:noindex
X-PUBLISHED-TTL:PT1H
BEGIN:VTIMEZONE
TZID:America/Chicago
BEGIN:DAYLIGHT
TZOFFSETFROM:-0600
TZOFFSETTO:-0500
TZNAME:CDT
DTSTART:20250309T080000
END:DAYLIGHT
BEGIN:STANDARD
TZOFFSETFROM:-0500
TZOFFSETTO:-0600
TZNAME:CST
DTSTART:20251102T070000
END:STANDARD
BEGIN:DAYLIGHT
TZOFFSETFROM:-0600
TZOFFSETTO:-0500
TZNAME:CDT
DTSTART:20260308T080000
END:DAYLIGHT
BEGIN:STANDARD
TZOFFSETFROM:-0500
TZOFFSETTO:-0600
TZNAME:CST
DTSTART:20261101T070000
END:STANDARD
BEGIN:DAYLIGHT
TZOFFSETFROM:-0600
TZOFFSETTO:-0500
TZNAME:CDT
DTSTART:20270314T080000
END:DAYLIGHT
BEGIN:STANDARD
TZOFFSETFROM:-0500
TZOFFSETTO:-0600
TZNAME:CST
DTSTART:20271107T070000
END:STANDARD
END:VTIMEZONE
BEGIN:VEVENT
DTSTART;TZID=America/Chicago:20260603T130000
DTEND;TZID=America/Chicago:20260603T140000
DTSTAMP:20260420T221520
CREATED:20260203T202436Z
LAST-MODIFIED:20260203T202436Z
UID:21381-1780491600-1780495200@interhab.org
SUMMARY:Grassroots Advocacy Committee Meeting
DESCRIPTION:
URL:https://interhab.org/event/grassroots-advocacy-committee-meeting-5/
END:VEVENT
BEGIN:VEVENT
DTSTART;TZID=America/Chicago:20260603T160000
DTEND;TZID=America/Chicago:20260603T170000
DTSTAMP:20260420T221520
CREATED:20260408T220411Z
LAST-MODIFIED:20260408T220411Z
UID:21784-1780502400-1780506000@interhab.org
SUMMARY:Advocacy Informational Session
DESCRIPTION:Zoom Link: \nhttps://us02web.zoom.us/j/85276762400?pwd=Oh2SORIaGi7slytrfDkIhP7HGEW2WZ.1\nMeeting ID: 852 7676 2400\nPasscode: 827026
URL:https://interhab.org/event/advocacy-informational-session-5/
END:VEVENT
BEGIN:VEVENT
DTSTART;TZID=America/Chicago:20260604T100000
DTEND;TZID=America/Chicago:20260604T110000
DTSTAMP:20260420T221520
CREATED:20260204T193227Z
LAST-MODIFIED:20260204T193227Z
UID:21480-1780567200-1780570800@interhab.org
SUMMARY:InterHab Training:  Financial Planning for Parents and Guardians of Children with Special Needs
DESCRIPTION:
URL:https://interhab.org/event/interhab-training-financial-planning-for-parents-and-guardians-of-children-with-special-needs/
END:VEVENT
BEGIN:VEVENT
DTSTART;TZID=America/Chicago:20260604T153000
DTEND;TZID=America/Chicago:20260604T163000
DTSTAMP:20260420T221520
CREATED:20260203T203419Z
LAST-MODIFIED:20260203T203419Z
UID:21403-1780587000-1780590600@interhab.org
SUMMARY:DSP+ Monthly Touch Base
DESCRIPTION:
URL:https://interhab.org/event/dsp-monthly-touch-base-5/
END:VEVENT
BEGIN:VEVENT
DTSTART;TZID=America/Chicago:20260610T100000
DTEND;TZID=America/Chicago:20260610T160000
DTSTAMP:20260420T221520
CREATED:20260204T195132Z
LAST-MODIFIED:20260204T195132Z
UID:21496-1781085600-1781107200@interhab.org
SUMMARY:Leadership InterHab Session 3
DESCRIPTION:
URL:https://interhab.org/event/leadership-interhab-session-3/
LOCATION:InterHab Conference Room\, 700 SW Jackson Ste 1100\, Topeka\, KS\, 66603\, United States
END:VEVENT
BEGIN:VEVENT
DTSTART;TZID=America/Chicago:20260616T100000
DTEND;TZID=America/Chicago:20260616T110000
DTSTAMP:20260420T221520
CREATED:20260204T193324Z
LAST-MODIFIED:20260204T193324Z
UID:21482-1781604000-1781607600@interhab.org
SUMMARY:InterHab Training:  Mastering Conflict Resolution: Science-Backed Strategies for Success
DESCRIPTION:
URL:https://interhab.org/event/interhab-training-mastering-conflict-resolution-science-backed-strategies-for-success/
END:VEVENT
BEGIN:VEVENT
DTSTART;TZID=America/Chicago:20260617T093000
DTEND;TZID=America/Chicago:20260617T150000
DTSTAMP:20260420T221520
CREATED:20251208T192701Z
LAST-MODIFIED:20251208T192701Z
UID:21055-1781688600-1781708400@interhab.org
SUMMARY:Board of Director Meeting
DESCRIPTION:
URL:https://interhab.org/event/board-of-director-meeting-2/
LOCATION:Tri-Valley\, 521 W. 35 Chanute Parkway\, Chanute\, KS\, 66720
END:VEVENT
BEGIN:VEVENT
DTSTART;TZID=America/Chicago:20260617T130000
DTEND;TZID=America/Chicago:20260617T140000
DTSTAMP:20260420T221520
CREATED:20260223T192933Z
LAST-MODIFIED:20260223T192933Z
UID:21601-1781701200-1781704800@interhab.org
SUMMARY:TCM Resource Network Meeting
DESCRIPTION:
URL:https://interhab.org/event/tcm-resource-network-meeting-23/
END:VEVENT
BEGIN:VEVENT
DTSTART;TZID=America/Chicago:20260625T100000
DTEND;TZID=America/Chicago:20260625T110000
DTSTAMP:20260420T221520
CREATED:20260204T193419Z
LAST-MODIFIED:20260204T193419Z
UID:21484-1782381600-1782385200@interhab.org
SUMMARY:InterHab Training: Employing Soft skills for Team Success
DESCRIPTION:
URL:https://interhab.org/event/interhab-training-employing-soft-skills-for-team-success/
END:VEVENT
BEGIN:VEVENT
DTSTART;TZID=America/Chicago:20260629T113000
DTEND;TZID=America/Chicago:20260629T123000
DTSTAMP:20260420T221520
CREATED:20251030T200651Z
LAST-MODIFIED:20251030T200651Z
UID:20795-1782732600-1782736200@interhab.org
SUMMARY:Children's Resource Network Meeting
DESCRIPTION:
URL:https://interhab.org/event/childrens-resource-network-meeting-5/
END:VEVENT
END:VCALENDAR