BEGIN:VCALENDAR
VERSION:2.0
PRODID:-//Interhab - ECPv6.15.11//NONSGML v1.0//EN
CALSCALE:GREGORIAN
METHOD:PUBLISH
X-ORIGINAL-URL:https://interhab.org
X-WR-CALDESC:Events for Interhab
REFRESH-INTERVAL;VALUE=DURATION:PT1H
X-Robots-Tag:noindex
X-PUBLISHED-TTL:PT1H
BEGIN:VTIMEZONE
TZID:America/Chicago
BEGIN:DAYLIGHT
TZOFFSETFROM:-0600
TZOFFSETTO:-0500
TZNAME:CDT
DTSTART:20230312T080000
END:DAYLIGHT
BEGIN:STANDARD
TZOFFSETFROM:-0500
TZOFFSETTO:-0600
TZNAME:CST
DTSTART:20231105T070000
END:STANDARD
BEGIN:DAYLIGHT
TZOFFSETFROM:-0600
TZOFFSETTO:-0500
TZNAME:CDT
DTSTART:20240310T080000
END:DAYLIGHT
BEGIN:STANDARD
TZOFFSETFROM:-0500
TZOFFSETTO:-0600
TZNAME:CST
DTSTART:20241103T070000
END:STANDARD
BEGIN:DAYLIGHT
TZOFFSETFROM:-0600
TZOFFSETTO:-0500
TZNAME:CDT
DTSTART:20250309T080000
END:DAYLIGHT
BEGIN:STANDARD
TZOFFSETFROM:-0500
TZOFFSETTO:-0600
TZNAME:CST
DTSTART:20251102T070000
END:STANDARD
END:VTIMEZONE
BEGIN:VEVENT
DTSTART;TZID=America/Chicago:20240301T100000
DTEND;TZID=America/Chicago:20240301T120000
DTSTAMP:20260419T163743
CREATED:20231220T152922Z
LAST-MODIFIED:20231220T152922Z
UID:8665-1709287200-1709294400@interhab.org
SUMMARY:Governmental Affairs Meeting
DESCRIPTION:
URL:https://interhab.org/event/governmental-affairs-meeting-122/
END:VEVENT
BEGIN:VEVENT
DTSTART;TZID=America/Chicago:20240305T140000
DTEND;TZID=America/Chicago:20240305T150000
DTSTAMP:20260419T163743
CREATED:20240102T192504Z
LAST-MODIFIED:20240102T192504Z
UID:9003-1709647200-1709650800@interhab.org
SUMMARY:Advocacy Workgroup Meeting
DESCRIPTION:
URL:https://interhab.org/event/advocacy-workgroup-meeting-2/
END:VEVENT
BEGIN:VEVENT
DTSTART;TZID=America/Chicago:20240307T093000
DTEND;TZID=America/Chicago:20240307T100000
DTSTAMP:20260419T163743
CREATED:20231220T191232Z
LAST-MODIFIED:20231220T191232Z
UID:8745-1709803800-1709805600@interhab.org
SUMMARY:Conference Committee
DESCRIPTION:
URL:https://interhab.org/event/conference-committee-9/
END:VEVENT
BEGIN:VEVENT
DTSTART;TZID=America/Chicago:20240307T100000
DTEND;TZID=America/Chicago:20240307T110000
DTSTAMP:20260419T163743
CREATED:20231221T143125Z
LAST-MODIFIED:20231221T143125Z
UID:8793-1709805600-1709809200@interhab.org
SUMMARY:Training - Future and Financial Planning for Parents and Guardians of Children with Special Needs
DESCRIPTION:
URL:https://interhab.org/event/training-future-and-financial-planning-for-parents-and-guardians-of-children-with-special-needs/
END:VEVENT
BEGIN:VEVENT
DTSTART;TZID=America/Chicago:20240307T100000
DTEND;TZID=America/Chicago:20240307T110000
DTSTAMP:20260419T163743
CREATED:20240102T174020Z
LAST-MODIFIED:20240102T175554Z
UID:8966-1709805600-1709809200@interhab.org
SUMMARY:Policy Workgroup Meeting
DESCRIPTION:
URL:https://interhab.org/event/policy-workgroup-3/
END:VEVENT
BEGIN:VEVENT
DTSTART;TZID=America/Chicago:20240307T153000
DTEND;TZID=America/Chicago:20240307T163000
DTSTAMP:20260419T163743
CREATED:20240124T145820Z
LAST-MODIFIED:20240124T145820Z
UID:10671-1709825400-1709829000@interhab.org
SUMMARY:DSP+ Monthly Apprentice Site Meeting
DESCRIPTION:
URL:https://interhab.org/event/dsp-monthly-apprentice-site-meeting-2/
END:VEVENT
BEGIN:VEVENT
DTSTART;TZID=America/Chicago:20240308T100000
DTEND;TZID=America/Chicago:20240308T120000
DTSTAMP:20260419T163743
CREATED:20231220T152951Z
LAST-MODIFIED:20231220T152951Z
UID:8667-1709892000-1709899200@interhab.org
SUMMARY:Governmental Affairs Meeting
DESCRIPTION:
URL:https://interhab.org/event/governmental-affairs-meeting-123/
END:VEVENT
BEGIN:VEVENT
DTSTART;TZID=America/Chicago:20240313T093000
DTEND;TZID=America/Chicago:20240313T150000
DTSTAMP:20260419T163743
CREATED:20231218T193424Z
LAST-MODIFIED:20231218T193424Z
UID:8547-1710322200-1710342000@interhab.org
SUMMARY:Issues Forum / Association Meeting
DESCRIPTION:
URL:https://interhab.org/event/issues-forum-association-meeting-3/
END:VEVENT
BEGIN:VEVENT
DTSTART;TZID=America/Chicago:20240314T083000
DTEND;TZID=America/Chicago:20240314T150000
DTSTAMP:20260419T163743
CREATED:20231218T193509Z
LAST-MODIFIED:20231218T193509Z
UID:8549-1710405000-1710428400@interhab.org
SUMMARY:Advocacy Day
DESCRIPTION:
URL:https://interhab.org/event/advocacy-day-3/
END:VEVENT
BEGIN:VEVENT
DTSTART;TZID=America/Chicago:20240315T100000
DTEND;TZID=America/Chicago:20240315T120000
DTSTAMP:20260419T163743
CREATED:20231220T153025Z
LAST-MODIFIED:20231220T153025Z
UID:8669-1710496800-1710504000@interhab.org
SUMMARY:Governmental Affairs Meeting
DESCRIPTION:
URL:https://interhab.org/event/governmental-affairs-meeting-124/
END:VEVENT
BEGIN:VEVENT
DTSTART;TZID=America/Chicago:20240320T100000
DTEND;TZID=America/Chicago:20240320T110000
DTSTAMP:20260419T163743
CREATED:20240319T193422Z
LAST-MODIFIED:20240319T193422Z
UID:12237-1710928800-1710932400@interhab.org
SUMMARY:Wait List Workgroup
DESCRIPTION:
URL:https://interhab.org/event/wait-list-workgroup/
END:VEVENT
BEGIN:VEVENT
DTSTART;TZID=America/Chicago:20240320T130000
DTEND;TZID=America/Chicago:20240320T150000
DTSTAMP:20260419T163743
CREATED:20240306T214334Z
LAST-MODIFIED:20240306T214334Z
UID:11682-1710939600-1710946800@interhab.org
SUMMARY:TCM Resource Network Meeting
DESCRIPTION:
URL:https://interhab.org/event/tcm-resource-network-meeting-9/
END:VEVENT
BEGIN:VEVENT
DTSTART;TZID=America/Chicago:20240322T100000
DTEND;TZID=America/Chicago:20240322T120000
DTSTAMP:20260419T163743
CREATED:20231220T153052Z
LAST-MODIFIED:20231220T153052Z
UID:8671-1711101600-1711108800@interhab.org
SUMMARY:Governmental Affairs Meeting
DESCRIPTION:
URL:https://interhab.org/event/governmental-affairs-meeting-125/
END:VEVENT
BEGIN:VEVENT
DTSTART;TZID=America/Chicago:20240327T100000
DTEND;TZID=America/Chicago:20240327T113000
DTSTAMP:20260419T163743
CREATED:20231221T143158Z
LAST-MODIFIED:20231221T143158Z
UID:8795-1711533600-1711539000@interhab.org
SUMMARY:Training - Tinder\, Grindr\, and More: Supporting People with I/DD who use Dating Apps
DESCRIPTION:
URL:https://interhab.org/event/training-tinder-grindr-and-more-supporting-people-with-i-dd-who-use-dating-apps/
END:VEVENT
BEGIN:VEVENT
DTSTART;TZID=America/Chicago:20240328T110000
DTEND;TZID=America/Chicago:20240328T120000
DTSTAMP:20260419T163743
CREATED:20240105T185138Z
LAST-MODIFIED:20240105T185138Z
UID:9245-1711623600-1711627200@interhab.org
SUMMARY:Free CQL Training Opportunity - Inclusion Practices: From Onboarding To Boards
DESCRIPTION:Register here: https://us06web.zoom.us/webinar/register/WN_HvA-sJN0RxKPfM3hzi_KJg
URL:https://interhab.org/event/free-cql-training-opportunity-inclusion-practices-from-onboarding-to-boards/
END:VEVENT
BEGIN:VEVENT
DTSTART;TZID=America/Chicago:20240329T100000
DTEND;TZID=America/Chicago:20240329T120000
DTSTAMP:20260419T163743
CREATED:20231220T153117Z
LAST-MODIFIED:20231220T153117Z
UID:8673-1711706400-1711713600@interhab.org
SUMMARY:Governmental Affairs Meeting
DESCRIPTION:
URL:https://interhab.org/event/governmental-affairs-meeting-126/
END:VEVENT
END:VCALENDAR