BEGIN:VCALENDAR
VERSION:2.0
PRODID:-//Interhab - ECPv6.15.11//NONSGML v1.0//EN
CALSCALE:GREGORIAN
METHOD:PUBLISH
X-ORIGINAL-URL:https://interhab.org
X-WR-CALDESC:Events for Interhab
REFRESH-INTERVAL;VALUE=DURATION:PT1H
X-Robots-Tag:noindex
X-PUBLISHED-TTL:PT1H
BEGIN:VTIMEZONE
TZID:America/Chicago
BEGIN:DAYLIGHT
TZOFFSETFROM:-0600
TZOFFSETTO:-0500
TZNAME:CDT
DTSTART:20220313T080000
END:DAYLIGHT
BEGIN:STANDARD
TZOFFSETFROM:-0500
TZOFFSETTO:-0600
TZNAME:CST
DTSTART:20221106T070000
END:STANDARD
BEGIN:DAYLIGHT
TZOFFSETFROM:-0600
TZOFFSETTO:-0500
TZNAME:CDT
DTSTART:20230312T080000
END:DAYLIGHT
BEGIN:STANDARD
TZOFFSETFROM:-0500
TZOFFSETTO:-0600
TZNAME:CST
DTSTART:20231105T070000
END:STANDARD
BEGIN:DAYLIGHT
TZOFFSETFROM:-0600
TZOFFSETTO:-0500
TZNAME:CDT
DTSTART:20240310T080000
END:DAYLIGHT
BEGIN:STANDARD
TZOFFSETFROM:-0500
TZOFFSETTO:-0600
TZNAME:CST
DTSTART:20241103T070000
END:STANDARD
END:VTIMEZONE
BEGIN:VEVENT
DTSTART;TZID=America/Chicago:20231201T100000
DTEND;TZID=America/Chicago:20231201T120000
DTSTAMP:20260420T045517
CREATED:20230417T145044Z
LAST-MODIFIED:20230417T145044Z
UID:4591-1701424800-1701432000@interhab.org
SUMMARY:Governmental Affairs Meeting
DESCRIPTION:
URL:https://interhab.org/event/governmental-affairs-meeting-113/
END:VEVENT
BEGIN:VEVENT
DTSTART;TZID=America/Chicago:20231205T140000
DTEND;TZID=America/Chicago:20231205T150000
DTSTAMP:20260420T045517
CREATED:20230519T133809Z
LAST-MODIFIED:20230519T133809Z
UID:4741-1701784800-1701788400@interhab.org
SUMMARY:Workforce Workgroup
DESCRIPTION:
URL:https://interhab.org/event/workforce-workgroup-6/
END:VEVENT
BEGIN:VEVENT
DTSTART;TZID=America/Chicago:20231207T140000
DTEND;TZID=America/Chicago:20231207T150000
DTSTAMP:20260420T045517
CREATED:20230104T171339Z
LAST-MODIFIED:20230104T171339Z
UID:2233-1701957600-1701961200@interhab.org
SUMMARY:Champion Fund Meeting
DESCRIPTION:
URL:https://interhab.org/event/champion-fund-meeting-6/
END:VEVENT
BEGIN:VEVENT
DTSTART;TZID=America/Chicago:20231207T140000
DTEND;TZID=America/Chicago:20231207T150000
DTSTAMP:20260420T045517
CREATED:20230517T202537Z
LAST-MODIFIED:20230517T202537Z
UID:4726-1701957600-1701961200@interhab.org
SUMMARY:Waiver Renewal Workgroup
DESCRIPTION:
URL:https://interhab.org/event/waiver-renewal-workgroup-9/
END:VEVENT
BEGIN:VEVENT
DTSTART;TZID=America/Chicago:20231207T140000
DTEND;TZID=America/Chicago:20231207T163000
DTSTAMP:20260420T045517
CREATED:20230112T175644Z
LAST-MODIFIED:20230112T175644Z
UID:2595-1701957600-1701966600@interhab.org
SUMMARY:CDDO Resource Network Meeting
DESCRIPTION:
URL:https://interhab.org/event/cddo-resource-network-meeting-21/
END:VEVENT
BEGIN:VEVENT
DTSTART;TZID=America/Chicago:20231208T100000
DTEND;TZID=America/Chicago:20231208T120000
DTSTAMP:20260420T045517
CREATED:20230417T145118Z
LAST-MODIFIED:20230417T145118Z
UID:4593-1702029600-1702036800@interhab.org
SUMMARY:Governmental Affairs Meeting
DESCRIPTION:
URL:https://interhab.org/event/governmental-affairs-meeting-114/
END:VEVENT
BEGIN:VEVENT
DTSTART;TZID=America/Chicago:20231212T133000
DTEND;TZID=America/Chicago:20231212T163000
DTSTAMP:20260420T045517
CREATED:20221228T210537Z
LAST-MODIFIED:20221228T210537Z
UID:2065-1702387800-1702398600@interhab.org
SUMMARY:InterHab Issues Forum
DESCRIPTION:
URL:https://interhab.org/event/interhab-issues-forum-4/
END:VEVENT
BEGIN:VEVENT
DTSTART;TZID=America/Chicago:20231213T093000
DTEND;TZID=America/Chicago:20231213T150000
DTSTAMP:20260420T045517
CREATED:20230216T161746Z
LAST-MODIFIED:20230216T161746Z
UID:3624-1702459800-1702479600@interhab.org
SUMMARY:InterHab Association Meeting
DESCRIPTION:
URL:https://interhab.org/event/interhab-association-meeting-5/
END:VEVENT
BEGIN:VEVENT
DTSTART;TZID=America/Chicago:20231215T100000
DTEND;TZID=America/Chicago:20231215T120000
DTSTAMP:20260420T045517
CREATED:20230417T145156Z
LAST-MODIFIED:20230417T145156Z
UID:4595-1702634400-1702641600@interhab.org
SUMMARY:Governmental Affairs Meeting
DESCRIPTION:
URL:https://interhab.org/event/governmental-affairs-meeting-115/
END:VEVENT
BEGIN:VEVENT
DTSTART;TZID=America/Chicago:20231222T100000
DTEND;TZID=America/Chicago:20231222T120000
DTSTAMP:20260420T045517
CREATED:20230417T150808Z
LAST-MODIFIED:20230417T150808Z
UID:4604-1703239200-1703246400@interhab.org
SUMMARY:Governmental Affairs Meeting
DESCRIPTION:
URL:https://interhab.org/event/governmental-affairs-meeting-116/
END:VEVENT
BEGIN:VEVENT
DTSTART;TZID=America/Chicago:20231229T100000
DTEND;TZID=America/Chicago:20231229T120000
DTSTAMP:20260420T045517
CREATED:20230417T150630Z
LAST-MODIFIED:20230417T150630Z
UID:4602-1703844000-1703851200@interhab.org
SUMMARY:Governmental Affairs Meeting
DESCRIPTION:
URL:https://interhab.org/event/governmental-affairs-meeting-105/
END:VEVENT
END:VCALENDAR