BEGIN:VCALENDAR
VERSION:2.0
PRODID:-//Interhab - ECPv6.15.11//NONSGML v1.0//EN
CALSCALE:GREGORIAN
METHOD:PUBLISH
X-ORIGINAL-URL:https://interhab.org
X-WR-CALDESC:Events for Interhab
REFRESH-INTERVAL;VALUE=DURATION:PT1H
X-Robots-Tag:noindex
X-PUBLISHED-TTL:PT1H
BEGIN:VTIMEZONE
TZID:America/Chicago
BEGIN:DAYLIGHT
TZOFFSETFROM:-0600
TZOFFSETTO:-0500
TZNAME:CDT
DTSTART:20210314T080000
END:DAYLIGHT
BEGIN:STANDARD
TZOFFSETFROM:-0500
TZOFFSETTO:-0600
TZNAME:CST
DTSTART:20211107T070000
END:STANDARD
BEGIN:DAYLIGHT
TZOFFSETFROM:-0600
TZOFFSETTO:-0500
TZNAME:CDT
DTSTART:20220313T080000
END:DAYLIGHT
BEGIN:STANDARD
TZOFFSETFROM:-0500
TZOFFSETTO:-0600
TZNAME:CST
DTSTART:20221106T070000
END:STANDARD
BEGIN:DAYLIGHT
TZOFFSETFROM:-0600
TZOFFSETTO:-0500
TZNAME:CDT
DTSTART:20230312T080000
END:DAYLIGHT
BEGIN:STANDARD
TZOFFSETFROM:-0500
TZOFFSETTO:-0600
TZNAME:CST
DTSTART:20231105T070000
END:STANDARD
END:VTIMEZONE
BEGIN:VEVENT
DTSTART;TZID=America/Chicago:20221004T100000
DTEND;TZID=America/Chicago:20221004T120000
DTSTAMP:20260419T145136
CREATED:20220929T203317Z
LAST-MODIFIED:20220929T203317Z
UID:1847-1664877600-1664884800@interhab.org
SUMMARY:Financial Resource Network Meeting
DESCRIPTION:
URL:https://interhab.org/event/financial-resource-network-meeting-4/
END:VEVENT
BEGIN:VEVENT
DTSTART;TZID=America/Chicago:20221006T140000
DTEND;TZID=America/Chicago:20221006T153000
DTSTAMP:20260419T145136
CREATED:20220714T174746Z
LAST-MODIFIED:20220714T174746Z
UID:1598-1665064800-1665070200@interhab.org
SUMMARY:CDDO Resource Network Meeting
DESCRIPTION:
URL:https://interhab.org/event/cddo-resource-network-meeting-13/
END:VEVENT
BEGIN:VEVENT
DTSTART;TZID=America/Chicago:20221007T100000
DTEND;TZID=America/Chicago:20221007T120000
DTSTAMP:20260419T145136
CREATED:20220706T200552Z
LAST-MODIFIED:20220706T200552Z
UID:1540-1665136800-1665144000@interhab.org
SUMMARY:Governmental Affairs Meeting
DESCRIPTION:
URL:https://interhab.org/event/governmental-affairs-meeting-60/
END:VEVENT
BEGIN:VEVENT
DTSTART;VALUE=DATE:20221012
DTEND;VALUE=DATE:20221015
DTSTAMP:20260419T145136
CREATED:20220601T191831Z
LAST-MODIFIED:20220601T191831Z
UID:1491-1665532800-1665791999@interhab.org
SUMMARY:InterHab Power Up! Conference
DESCRIPTION:
URL:https://interhab.org/event/interhab-power-up-conference/
LOCATION:Hyatt\, Wichita\, KS\, 400 W Waterman St.\, Wichita\, KS\, 67202\, United States
END:VEVENT
BEGIN:VEVENT
DTSTART;TZID=America/Chicago:20221021T100000
DTEND;TZID=America/Chicago:20221021T120000
DTSTAMP:20260419T145136
CREATED:20220706T200635Z
LAST-MODIFIED:20220706T200635Z
UID:1542-1666346400-1666353600@interhab.org
SUMMARY:Governmental Affairs Meeting
DESCRIPTION:
URL:https://interhab.org/event/governmental-affairs-meeting-61/
END:VEVENT
BEGIN:VEVENT
DTSTART;TZID=America/Chicago:20221028T100000
DTEND;TZID=America/Chicago:20221028T120000
DTSTAMP:20260419T145136
CREATED:20220706T200721Z
LAST-MODIFIED:20220706T200721Z
UID:1544-1666951200-1666958400@interhab.org
SUMMARY:Governmental Affairs Meeting
DESCRIPTION:
URL:https://interhab.org/event/governmental-affairs-meeting-62/
END:VEVENT
END:VCALENDAR