BEGIN:VCALENDAR
VERSION:2.0
PRODID:-//Interhab - ECPv6.15.11//NONSGML v1.0//EN
CALSCALE:GREGORIAN
METHOD:PUBLISH
X-WR-CALNAME:Interhab
X-ORIGINAL-URL:https://interhab.org
X-WR-CALDESC:Events for Interhab
REFRESH-INTERVAL;VALUE=DURATION:PT1H
X-Robots-Tag:noindex
X-PUBLISHED-TTL:PT1H
BEGIN:VTIMEZONE
TZID:America/Chicago
BEGIN:DAYLIGHT
TZOFFSETFROM:-0600
TZOFFSETTO:-0500
TZNAME:CDT
DTSTART:20210314T080000
END:DAYLIGHT
BEGIN:STANDARD
TZOFFSETFROM:-0500
TZOFFSETTO:-0600
TZNAME:CST
DTSTART:20211107T070000
END:STANDARD
BEGIN:DAYLIGHT
TZOFFSETFROM:-0600
TZOFFSETTO:-0500
TZNAME:CDT
DTSTART:20220313T080000
END:DAYLIGHT
BEGIN:STANDARD
TZOFFSETFROM:-0500
TZOFFSETTO:-0600
TZNAME:CST
DTSTART:20221106T070000
END:STANDARD
BEGIN:DAYLIGHT
TZOFFSETFROM:-0600
TZOFFSETTO:-0500
TZNAME:CDT
DTSTART:20230312T080000
END:DAYLIGHT
BEGIN:STANDARD
TZOFFSETFROM:-0500
TZOFFSETTO:-0600
TZNAME:CST
DTSTART:20231105T070000
END:STANDARD
END:VTIMEZONE
BEGIN:VEVENT
DTSTART;TZID=America/Chicago:20220901T140000
DTEND;TZID=America/Chicago:20220901T153000
DTSTAMP:20260419T132751
CREATED:20220714T174529Z
LAST-MODIFIED:20220714T174529Z
UID:1596-1662040800-1662046200@interhab.org
SUMMARY:CDDO Resource Network Meeting
DESCRIPTION:
URL:https://interhab.org/event/cddo-resource-network-meeting-12/
END:VEVENT
BEGIN:VEVENT
DTSTART;TZID=America/Chicago:20220902T100000
DTEND;TZID=America/Chicago:20220902T120000
DTSTAMP:20260419T132751
CREATED:20220706T200046Z
LAST-MODIFIED:20220706T200046Z
UID:1532-1662112800-1662120000@interhab.org
SUMMARY:Governmental Affairs Meeting
DESCRIPTION:
URL:https://interhab.org/event/governmental-affairs-meeting-56/
END:VEVENT
BEGIN:VEVENT
DTSTART;VALUE=DATE:20220905
DTEND;VALUE=DATE:20220906
DTSTAMP:20260419T132751
CREATED:20220824T205738Z
LAST-MODIFIED:20220824T205843Z
UID:1705-1662336000-1662422399@interhab.org
SUMMARY:InterHab Office Closed for Labor Day
DESCRIPTION:
URL:https://interhab.org/event/interhab-office-closed-for-labor-day/
END:VEVENT
BEGIN:VEVENT
DTSTART;TZID=America/Chicago:20220908T100000
DTEND;TZID=America/Chicago:20220908T120000
DTSTAMP:20260419T132751
CREATED:20211213T211704Z
LAST-MODIFIED:20211213T211704Z
UID:1033-1662631200-1662638400@interhab.org
SUMMARY:Advocacy Bootcamp
DESCRIPTION:Matt Fletcher and Nick Wood\, InterHab\nThursday\, Sept. 8\, 15\, & 22\, 10 a.m. – 12 p.m.
URL:https://interhab.org/event/advocacy-bootcamp-4/
LOCATION:Virtual
ORGANIZER;CN="Meghan Shreve":MAILTO:mshreve@interhab.org
END:VEVENT
BEGIN:VEVENT
DTSTART;TZID=America/Chicago:20220909T100000
DTEND;TZID=America/Chicago:20220909T120000
DTSTAMP:20260419T132751
CREATED:20220706T201514Z
LAST-MODIFIED:20220706T201514Z
UID:1558-1662717600-1662724800@interhab.org
SUMMARY:Governmental Affairs Meeting
DESCRIPTION:
URL:https://interhab.org/event/governmental-affairs-meeting-69/
END:VEVENT
BEGIN:VEVENT
DTSTART;TZID=America/Chicago:20220909T133000
DTEND;TZID=America/Chicago:20220909T133000
DTSTAMP:20260419T132751
CREATED:20220708T203538Z
LAST-MODIFIED:20220708T203538Z
UID:1565-1662730200-1662730200@interhab.org
SUMMARY:TCM Resource Network Meeting
DESCRIPTION:
URL:https://interhab.org/event/tcm-resource-network-meeting-3/
END:VEVENT
BEGIN:VEVENT
DTSTART;TZID=America/Chicago:20220913T090000
DTEND;TZID=America/Chicago:20220913T120000
DTSTAMP:20260419T132751
CREATED:20211213T211848Z
LAST-MODIFIED:20211213T211848Z
UID:1039-1663059600-1663070400@interhab.org
SUMMARY:Build Yourself\, Brand Yourself
DESCRIPTION:Crystal Fong\, Evergy\nTuesday\, Sept. 13\, 9 a.m. – 12 p.m.
URL:https://interhab.org/event/build-yourself-brand-yourself/
LOCATION:Virtual
ORGANIZER;CN="Meghan Shreve":MAILTO:mshreve@interhab.org
END:VEVENT
BEGIN:VEVENT
DTSTART;TZID=America/Chicago:20220915T100000
DTEND;TZID=America/Chicago:20220915T120000
DTSTAMP:20260419T132751
CREATED:20211213T211739Z
LAST-MODIFIED:20220601T191625Z
UID:1035-1663236000-1663243200@interhab.org
SUMMARY:Advocacy Bootcamp
DESCRIPTION:Matt Fletcher and Nick Wood\, InterHab\nThursday\, Sept. 8\, 15\, & 22\, 10 a.m. – 12 p.m.
URL:https://interhab.org/event/advocacy-bootcamp-5/
LOCATION:Virtual
ORGANIZER;CN="Meghan Shreve":MAILTO:mshreve@interhab.org
END:VEVENT
BEGIN:VEVENT
DTSTART;TZID=America/Chicago:20220916T100000
DTEND;TZID=America/Chicago:20220916T120000
DTSTAMP:20260419T132751
CREATED:20220706T200143Z
LAST-MODIFIED:20220706T200338Z
UID:1523-1663322400-1663329600@interhab.org
SUMMARY:Governmental Affairs Meeting
DESCRIPTION:
URL:https://interhab.org/event/governmental-affairs-meeting-57/
END:VEVENT
BEGIN:VEVENT
DTSTART;TZID=America/Chicago:20220922T093000
DTEND;TZID=America/Chicago:20220922T160000
DTSTAMP:20260419T132751
CREATED:20220824T204453Z
LAST-MODIFIED:20220824T204453Z
UID:1701-1663839000-1663862400@interhab.org
SUMMARY:Governmental Affairs Retreat
DESCRIPTION:
URL:https://interhab.org/event/governmental-affairs-retreat/
END:VEVENT
BEGIN:VEVENT
DTSTART;TZID=America/Chicago:20220922T100000
DTEND;TZID=America/Chicago:20220922T120000
DTSTAMP:20260419T132751
CREATED:20211213T211813Z
LAST-MODIFIED:20211213T211813Z
UID:1037-1663840800-1663848000@interhab.org
SUMMARY:Advocacy Bootcamp
DESCRIPTION:Matt Fletcher and Nick Wood\, InterHab\nThursday\, Sept. 8\, 15\, & 22\, 10 a.m. – 12 p.m.
URL:https://interhab.org/event/advocacy-bootcamp-6/
LOCATION:Virtual
ORGANIZER;CN="Meghan Shreve":MAILTO:mshreve@interhab.org
END:VEVENT
BEGIN:VEVENT
DTSTART;TZID=America/Chicago:20220923T090000
DTEND;TZID=America/Chicago:20220923T120000
DTSTAMP:20260419T132751
CREATED:20220824T204621Z
LAST-MODIFIED:20220824T204621Z
UID:1703-1663923600-1663934400@interhab.org
SUMMARY:Governmental Affairs Retreat Continues
DESCRIPTION:
URL:https://interhab.org/event/governmental-affairs-retreat-continues/
END:VEVENT
BEGIN:VEVENT
DTSTART;TZID=America/Chicago:20220930T100000
DTEND;TZID=America/Chicago:20220930T120000
DTSTAMP:20260419T132751
CREATED:20220706T200459Z
LAST-MODIFIED:20220706T200459Z
UID:1538-1664532000-1664539200@interhab.org
SUMMARY:Governmental Affairs Meeting
DESCRIPTION:
URL:https://interhab.org/event/governmental-affairs-meeting-59/
END:VEVENT
END:VCALENDAR