BEGIN:VCALENDAR
VERSION:2.0
PRODID:-//Interhab - ECPv6.15.11//NONSGML v1.0//EN
CALSCALE:GREGORIAN
METHOD:PUBLISH
X-WR-CALNAME:Interhab
X-ORIGINAL-URL:https://interhab.org
X-WR-CALDESC:Events for Interhab
REFRESH-INTERVAL;VALUE=DURATION:PT1H
X-Robots-Tag:noindex
X-PUBLISHED-TTL:PT1H
BEGIN:VTIMEZONE
TZID:America/Chicago
BEGIN:DAYLIGHT
TZOFFSETFROM:-0600
TZOFFSETTO:-0500
TZNAME:CDT
DTSTART:20250309T080000
END:DAYLIGHT
BEGIN:STANDARD
TZOFFSETFROM:-0500
TZOFFSETTO:-0600
TZNAME:CST
DTSTART:20251102T070000
END:STANDARD
BEGIN:DAYLIGHT
TZOFFSETFROM:-0600
TZOFFSETTO:-0500
TZNAME:CDT
DTSTART:20260308T080000
END:DAYLIGHT
BEGIN:STANDARD
TZOFFSETFROM:-0500
TZOFFSETTO:-0600
TZNAME:CST
DTSTART:20261101T070000
END:STANDARD
BEGIN:DAYLIGHT
TZOFFSETFROM:-0600
TZOFFSETTO:-0500
TZNAME:CDT
DTSTART:20270314T080000
END:DAYLIGHT
BEGIN:STANDARD
TZOFFSETFROM:-0500
TZOFFSETTO:-0600
TZNAME:CST
DTSTART:20271107T070000
END:STANDARD
END:VTIMEZONE
BEGIN:VEVENT
DTSTART;TZID=America/Chicago:20260603T130000
DTEND;TZID=America/Chicago:20260603T140000
DTSTAMP:20260420T221437
CREATED:20260203T202436Z
LAST-MODIFIED:20260203T202436Z
UID:21381-1780491600-1780495200@interhab.org
SUMMARY:Grassroots Advocacy Committee Meeting
DESCRIPTION:
URL:https://interhab.org/event/grassroots-advocacy-committee-meeting-5/
END:VEVENT
BEGIN:VEVENT
DTSTART;TZID=America/Chicago:20260603T160000
DTEND;TZID=America/Chicago:20260603T170000
DTSTAMP:20260420T221437
CREATED:20260408T220411Z
LAST-MODIFIED:20260408T220411Z
UID:21784-1780502400-1780506000@interhab.org
SUMMARY:Advocacy Informational Session
DESCRIPTION:Zoom Link: \nhttps://us02web.zoom.us/j/85276762400?pwd=Oh2SORIaGi7slytrfDkIhP7HGEW2WZ.1\nMeeting ID: 852 7676 2400\nPasscode: 827026
URL:https://interhab.org/event/advocacy-informational-session-5/
END:VEVENT
END:VCALENDAR