BEGIN:VCALENDAR
VERSION:2.0
PRODID:-//Interhab - ECPv6.15.11//NONSGML v1.0//EN
CALSCALE:GREGORIAN
METHOD:PUBLISH
X-WR-CALNAME:Interhab
X-ORIGINAL-URL:https://interhab.org
X-WR-CALDESC:Events for Interhab
REFRESH-INTERVAL;VALUE=DURATION:PT1H
X-Robots-Tag:noindex
X-PUBLISHED-TTL:PT1H
BEGIN:VTIMEZONE
TZID:America/Chicago
BEGIN:DAYLIGHT
TZOFFSETFROM:-0600
TZOFFSETTO:-0500
TZNAME:CDT
DTSTART:20250309T080000
END:DAYLIGHT
BEGIN:STANDARD
TZOFFSETFROM:-0500
TZOFFSETTO:-0600
TZNAME:CST
DTSTART:20251102T070000
END:STANDARD
BEGIN:DAYLIGHT
TZOFFSETFROM:-0600
TZOFFSETTO:-0500
TZNAME:CDT
DTSTART:20260308T080000
END:DAYLIGHT
BEGIN:STANDARD
TZOFFSETFROM:-0500
TZOFFSETTO:-0600
TZNAME:CST
DTSTART:20261101T070000
END:STANDARD
BEGIN:DAYLIGHT
TZOFFSETFROM:-0600
TZOFFSETTO:-0500
TZNAME:CDT
DTSTART:20270314T080000
END:DAYLIGHT
BEGIN:STANDARD
TZOFFSETFROM:-0500
TZOFFSETTO:-0600
TZNAME:CST
DTSTART:20271107T070000
END:STANDARD
END:VTIMEZONE
BEGIN:VEVENT
DTSTART;TZID=America/Chicago:20260402T100000
DTEND;TZID=America/Chicago:20260402T110000
DTSTAMP:20260420T202429
CREATED:20260115T164853Z
LAST-MODIFIED:20260209T210957Z
UID:21222-1775124000-1775127600@interhab.org
SUMMARY:Fire Marshal Quarterly Connection
DESCRIPTION:Join Zoom Meeting\nhttps://us02web.zoom.us/j/81835920555?pwd=lQAMRrQcQ3kUfkEijAfyySkD56mi1o.1&jst=2 \nMeeting ID: 818 3592 0555\nPasscode: 853210 \n— \nOne tap mobile\n+16694449171\,\,81835920555# US
URL:https://interhab.org/event/fire-marshall-quarterly-connection/
END:VEVENT
BEGIN:VEVENT
DTSTART;TZID=America/Chicago:20260402T153000
DTEND;TZID=America/Chicago:20260402T163000
DTSTAMP:20260420T202429
CREATED:20260203T203250Z
LAST-MODIFIED:20260203T203250Z
UID:21399-1775143800-1775147400@interhab.org
SUMMARY:DSP+ Monthly Touch Base
DESCRIPTION:
URL:https://interhab.org/event/dsp-monthly-touch-base-3/
END:VEVENT
END:VCALENDAR