BEGIN:VCALENDAR
VERSION:2.0
PRODID:-//Interhab - ECPv6.15.11//NONSGML v1.0//EN
CALSCALE:GREGORIAN
METHOD:PUBLISH
X-ORIGINAL-URL:https://interhab.org
X-WR-CALDESC:Events for Interhab
REFRESH-INTERVAL;VALUE=DURATION:PT1H
X-Robots-Tag:noindex
X-PUBLISHED-TTL:PT1H
BEGIN:VTIMEZONE
TZID:America/Chicago
BEGIN:DAYLIGHT
TZOFFSETFROM:-0600
TZOFFSETTO:-0500
TZNAME:CDT
DTSTART:20250309T080000
END:DAYLIGHT
BEGIN:STANDARD
TZOFFSETFROM:-0500
TZOFFSETTO:-0600
TZNAME:CST
DTSTART:20251102T070000
END:STANDARD
BEGIN:DAYLIGHT
TZOFFSETFROM:-0600
TZOFFSETTO:-0500
TZNAME:CDT
DTSTART:20260308T080000
END:DAYLIGHT
BEGIN:STANDARD
TZOFFSETFROM:-0500
TZOFFSETTO:-0600
TZNAME:CST
DTSTART:20261101T070000
END:STANDARD
BEGIN:DAYLIGHT
TZOFFSETFROM:-0600
TZOFFSETTO:-0500
TZNAME:CDT
DTSTART:20270314T080000
END:DAYLIGHT
BEGIN:STANDARD
TZOFFSETFROM:-0500
TZOFFSETTO:-0600
TZNAME:CST
DTSTART:20271107T070000
END:STANDARD
END:VTIMEZONE
BEGIN:VEVENT
DTSTART;TZID=America/Chicago:20260326T100000
DTEND;TZID=America/Chicago:20260326T110000
DTSTAMP:20260420T170929
CREATED:20260204T192612Z
LAST-MODIFIED:20260204T192612Z
UID:21468-1774519200-1774522800@interhab.org
SUMMARY:InterHab Training: Family Decision Making in Healthcare: Low conflict tips!
DESCRIPTION:
URL:https://interhab.org/event/interhab-training-family-decision-making-in-healthcare-low-conflict-tips/
END:VEVENT
BEGIN:VEVENT
DTSTART;TZID=America/Chicago:20260326T100000
DTEND;TZID=America/Chicago:20260326T150000
DTSTAMP:20260420T170929
CREATED:20260205T204556Z
LAST-MODIFIED:20260205T204556Z
UID:21512-1774519200-1774537200@interhab.org
SUMMARY:Employment Resource Network Meeting
DESCRIPTION:
URL:https://interhab.org/event/employment-resource-network-meeting-9/
LOCATION:Starkey\, 4500 W. Maple\, Wichita\, KS
END:VEVENT
END:VCALENDAR