BEGIN:VCALENDAR
VERSION:2.0
PRODID:-//Interhab - ECPv6.15.11//NONSGML v1.0//EN
CALSCALE:GREGORIAN
METHOD:PUBLISH
X-ORIGINAL-URL:https://interhab.org
X-WR-CALDESC:Events for Interhab
REFRESH-INTERVAL;VALUE=DURATION:PT1H
X-Robots-Tag:noindex
X-PUBLISHED-TTL:PT1H
BEGIN:VTIMEZONE
TZID:America/Chicago
BEGIN:DAYLIGHT
TZOFFSETFROM:-0600
TZOFFSETTO:-0500
TZNAME:CDT
DTSTART:20250309T080000
END:DAYLIGHT
BEGIN:STANDARD
TZOFFSETFROM:-0500
TZOFFSETTO:-0600
TZNAME:CST
DTSTART:20251102T070000
END:STANDARD
BEGIN:DAYLIGHT
TZOFFSETFROM:-0600
TZOFFSETTO:-0500
TZNAME:CDT
DTSTART:20260308T080000
END:DAYLIGHT
BEGIN:STANDARD
TZOFFSETFROM:-0500
TZOFFSETTO:-0600
TZNAME:CST
DTSTART:20261101T070000
END:STANDARD
BEGIN:DAYLIGHT
TZOFFSETFROM:-0600
TZOFFSETTO:-0500
TZNAME:CDT
DTSTART:20270314T080000
END:DAYLIGHT
BEGIN:STANDARD
TZOFFSETFROM:-0500
TZOFFSETTO:-0600
TZNAME:CST
DTSTART:20271107T070000
END:STANDARD
END:VTIMEZONE
BEGIN:VEVENT
DTSTART;TZID=America/Chicago:20260128T120000
DTEND;TZID=America/Chicago:20260128T150000
DTSTAMP:20260421T083023
CREATED:20251121T193335Z
LAST-MODIFIED:20251121T193335Z
UID:20978-1769601600-1769612400@interhab.org
SUMMARY:Governmental Affairs Prep Session
DESCRIPTION:
URL:https://interhab.org/event/governmental-affairs-prep-session/
LOCATION:InterHab Conference Room\, 700 SW Jackson Ste 1100\, Topeka\, KS\, 66603\, United States
END:VEVENT
BEGIN:VEVENT
DTSTART;TZID=America/Chicago:20260128T160000
DTEND;TZID=America/Chicago:20260128T170000
DTSTAMP:20260421T083023
CREATED:20251030T144506Z
LAST-MODIFIED:20251030T144506Z
UID:20775-1769616000-1769619600@interhab.org
SUMMARY:InterHab Informational Session
DESCRIPTION:Join Zoom Meeting\nhttps://us02web.zoom.us/j/85276762400?pwd=Oh2SORIaGi7slytrfDkIhP7HGEW2WZ.1 \nMeeting ID: 852 7676 2400\nPasscode: 827026 \n— \nOne tap mobile\n+16699006833\,\,85276762400# US
URL:https://interhab.org/event/interhab-informational-session-7/
END:VEVENT
BEGIN:VEVENT
DTSTART;TZID=America/Chicago:20260128T170000
DTEND;TZID=America/Chicago:20260128T190000
DTSTAMP:20260421T083023
CREATED:20251121T193442Z
LAST-MODIFIED:20251121T193442Z
UID:20980-1769619600-1769626800@interhab.org
SUMMARY:InterHab Legislative Reception
DESCRIPTION:
URL:https://interhab.org/event/interhab-legislative-reception-2/
LOCATION:InterHab Conference Room\, 700 SW Jackson Ste 1100\, Topeka\, KS\, 66603\, United States
END:VEVENT
END:VCALENDAR