BEGIN:VCALENDAR
VERSION:2.0
PRODID:-//Interhab - ECPv6.15.11//NONSGML v1.0//EN
CALSCALE:GREGORIAN
METHOD:PUBLISH
X-WR-CALNAME:Interhab
X-ORIGINAL-URL:https://interhab.org
X-WR-CALDESC:Events for Interhab
REFRESH-INTERVAL;VALUE=DURATION:PT1H
X-Robots-Tag:noindex
X-PUBLISHED-TTL:PT1H
BEGIN:VTIMEZONE
TZID:America/Chicago
BEGIN:DAYLIGHT
TZOFFSETFROM:-0600
TZOFFSETTO:-0500
TZNAME:CDT
DTSTART:20250309T080000
END:DAYLIGHT
BEGIN:STANDARD
TZOFFSETFROM:-0500
TZOFFSETTO:-0600
TZNAME:CST
DTSTART:20251102T070000
END:STANDARD
BEGIN:DAYLIGHT
TZOFFSETFROM:-0600
TZOFFSETTO:-0500
TZNAME:CDT
DTSTART:20260308T080000
END:DAYLIGHT
BEGIN:STANDARD
TZOFFSETFROM:-0500
TZOFFSETTO:-0600
TZNAME:CST
DTSTART:20261101T070000
END:STANDARD
BEGIN:DAYLIGHT
TZOFFSETFROM:-0600
TZOFFSETTO:-0500
TZNAME:CDT
DTSTART:20270314T080000
END:DAYLIGHT
BEGIN:STANDARD
TZOFFSETFROM:-0500
TZOFFSETTO:-0600
TZNAME:CST
DTSTART:20271107T070000
END:STANDARD
END:VTIMEZONE
BEGIN:VEVENT
DTSTART;TZID=America/Chicago:20260122T100000
DTEND;TZID=America/Chicago:20260122T150000
DTSTAMP:20260421T074247
CREATED:20260114T160051Z
LAST-MODIFIED:20260114T160051Z
UID:21203-1769076000-1769094000@interhab.org
SUMMARY:Employment Resource Network Meeting
DESCRIPTION:Microsoft Teams Need help? \nJoin the meeting now \nMeeting ID: 274 159 876 566 09 \nPasscode: WE6v9HG7 \nDial in by phone \n+1 469-620-1006\,\,833396170# United States\, Dallas \nFind a local number \nPhone conference ID: 833 396 170#
URL:https://interhab.org/event/employment-resource-network-meeting-6/
END:VEVENT
BEGIN:VEVENT
DTSTART;TZID=America/Chicago:20260122T140000
DTEND;TZID=America/Chicago:20260122T143000
DTSTAMP:20260421T074247
CREATED:20260112T171921Z
LAST-MODIFIED:20260112T171921Z
UID:21199-1769090400-1769092200@interhab.org
SUMMARY:Legislative TCM Update
DESCRIPTION:Join Zoom Meeting\nhttps://us02web.zoom.us/j/89979997032?pwd=tWfpLBHAKMRLIyNLhvbVhf7Sd01bKw.1Meeting ID: 899 7999 7032\nPasscode: 708917 \n— \nOne tap mobile\n+12532050468\,\,89979997032# US\n+12532158782\,\,89979997032# US (Tacoma) \nJoin instructions\nhttps://us02web.zoom.us/meetings/89979997032/invitations?signature=taC7CnKN8aLkuCYIBqcY_AHl2ncVMFnIwO_8oIqsfac \n  \n\n\n\n\n\n\n\n\n\n\nWhen\n\n\n\n\nThursday Jan 22\, 2026 ⋅ 2pm – 2:30pm (Central Time – Chicago)
URL:https://interhab.org/event/legislative-tcm-update/
END:VEVENT
END:VCALENDAR