BEGIN:VCALENDAR
VERSION:2.0
PRODID:-//Interhab - ECPv6.15.11//NONSGML v1.0//EN
CALSCALE:GREGORIAN
METHOD:PUBLISH
X-ORIGINAL-URL:https://interhab.org
X-WR-CALDESC:Events for Interhab
REFRESH-INTERVAL;VALUE=DURATION:PT1H
X-Robots-Tag:noindex
X-PUBLISHED-TTL:PT1H
BEGIN:VTIMEZONE
TZID:America/Chicago
BEGIN:DAYLIGHT
TZOFFSETFROM:-0600
TZOFFSETTO:-0500
TZNAME:CDT
DTSTART:20240310T080000
END:DAYLIGHT
BEGIN:STANDARD
TZOFFSETFROM:-0500
TZOFFSETTO:-0600
TZNAME:CST
DTSTART:20241103T070000
END:STANDARD
BEGIN:DAYLIGHT
TZOFFSETFROM:-0600
TZOFFSETTO:-0500
TZNAME:CDT
DTSTART:20250309T080000
END:DAYLIGHT
BEGIN:STANDARD
TZOFFSETFROM:-0500
TZOFFSETTO:-0600
TZNAME:CST
DTSTART:20251102T070000
END:STANDARD
BEGIN:DAYLIGHT
TZOFFSETFROM:-0600
TZOFFSETTO:-0500
TZNAME:CDT
DTSTART:20260308T080000
END:DAYLIGHT
BEGIN:STANDARD
TZOFFSETFROM:-0500
TZOFFSETTO:-0600
TZNAME:CST
DTSTART:20261101T070000
END:STANDARD
END:VTIMEZONE
BEGIN:VEVENT
DTSTART;TZID=America/Chicago:20251114T080000
DTEND;TZID=America/Chicago:20251114T160000
DTSTAMP:20260422T002218
CREATED:20250728T170445Z
LAST-MODIFIED:20250728T170445Z
UID:20553-1763107200-1763136000@interhab.org
SUMMARY:ASIS: Direct Support Worker Training (Kansas Center for Autism Research & Training)
DESCRIPTION:Location: Life Centers of Kansas\, 7495 W. 161st Street\, Overland Park\, KS 66085 \nhttps://oasis.ku.edu/
URL:https://interhab.org/event/asis-direct-support-worker-training-kansas-center-for-autism-research-training-2/
END:VEVENT
BEGIN:VEVENT
DTSTART;TZID=America/Chicago:20251114T100000
DTEND;TZID=America/Chicago:20251114T110000
DTSTAMP:20260422T002218
CREATED:20250507T185613Z
LAST-MODIFIED:20250507T185613Z
UID:20276-1763114400-1763118000@interhab.org
SUMMARY:Governmental Affairs Meeting
DESCRIPTION:
URL:https://interhab.org/event/governmental-affairs-meeting-197/
END:VEVENT
END:VCALENDAR