BEGIN:VCALENDAR
VERSION:2.0
PRODID:-//Interhab - ECPv6.15.11//NONSGML v1.0//EN
CALSCALE:GREGORIAN
METHOD:PUBLISH
X-WR-CALNAME:Interhab
X-ORIGINAL-URL:https://interhab.org
X-WR-CALDESC:Events for Interhab
REFRESH-INTERVAL;VALUE=DURATION:PT1H
X-Robots-Tag:noindex
X-PUBLISHED-TTL:PT1H
BEGIN:VTIMEZONE
TZID:America/Chicago
BEGIN:DAYLIGHT
TZOFFSETFROM:-0600
TZOFFSETTO:-0500
TZNAME:CDT
DTSTART:20240310T080000
END:DAYLIGHT
BEGIN:STANDARD
TZOFFSETFROM:-0500
TZOFFSETTO:-0600
TZNAME:CST
DTSTART:20241103T070000
END:STANDARD
BEGIN:DAYLIGHT
TZOFFSETFROM:-0600
TZOFFSETTO:-0500
TZNAME:CDT
DTSTART:20250309T080000
END:DAYLIGHT
BEGIN:STANDARD
TZOFFSETFROM:-0500
TZOFFSETTO:-0600
TZNAME:CST
DTSTART:20251102T070000
END:STANDARD
BEGIN:DAYLIGHT
TZOFFSETFROM:-0600
TZOFFSETTO:-0500
TZNAME:CDT
DTSTART:20260308T080000
END:DAYLIGHT
BEGIN:STANDARD
TZOFFSETFROM:-0500
TZOFFSETTO:-0600
TZNAME:CST
DTSTART:20261101T070000
END:STANDARD
END:VTIMEZONE
BEGIN:VEVENT
DTSTART;TZID=America/Chicago:20251015T080000
DTEND;TZID=America/Chicago:20251015T160000
DTSTAMP:20260422T020138
CREATED:20250728T175221Z
LAST-MODIFIED:20250728T175221Z
UID:20558-1760515200-1760544000@interhab.org
SUMMARY:ASIS: Direct Support Worker Training (Kansas Center for Autism Research & Training)
DESCRIPTION:Garden City\, Kansas \nContact: (913) 945-6847 \nWebsite: Oasis.ku.edu
URL:https://interhab.org/event/asis-direct-support-worker-training-kansas-center-for-autism-research-training-4/
END:VEVENT
BEGIN:VEVENT
DTSTART;TZID=America/Chicago:20251015T110000
DTEND;TZID=America/Chicago:20251015T120000
DTSTAMP:20260422T020138
CREATED:20250910T213514Z
LAST-MODIFIED:20250910T213514Z
UID:20641-1760526000-1760529600@interhab.org
SUMMARY:Healthy Blue Information Session
DESCRIPTION:Join Zoom Meeting\nhttps://us02web.zoom.us/j/88947503285?pwd=QZ6O4R7sneCAv3He0aFPDQ0pA6Wwin.1 \nMeeting ID: 889 4750 3285\nPasscode: 918035 \nOne tap mobile\n+12532158782
URL:https://interhab.org/event/healthy-blue-information-session/
END:VEVENT
BEGIN:VEVENT
DTSTART;TZID=America/Chicago:20251015T150000
DTEND;TZID=America/Chicago:20251015T160000
DTSTAMP:20260422T020138
CREATED:20250923T202619Z
LAST-MODIFIED:20250923T202619Z
UID:20662-1760540400-1760544000@interhab.org
SUMMARY:TCM Encounter Billing Meeting - Full Group Update
DESCRIPTION:Join Zoom Meeting\nhttps://us02web.zoom.us/j/83643658800?pwd=V0MIVUmShQOpzPuvGF18tLV58oIzCb.1 \nMeeting ID: 836 4365 8800\nPasscode: 626219 \nOne tap mobile\n+12532050468\,\,83643658800# US
URL:https://interhab.org/event/tcm-encounter-billing-meeting-full-group-update/
END:VEVENT
END:VCALENDAR