BEGIN:VCALENDAR
VERSION:2.0
PRODID:-//Interhab - ECPv6.15.11//NONSGML v1.0//EN
CALSCALE:GREGORIAN
METHOD:PUBLISH
X-WR-CALNAME:Interhab
X-ORIGINAL-URL:https://interhab.org
X-WR-CALDESC:Events for Interhab
REFRESH-INTERVAL;VALUE=DURATION:PT1H
X-Robots-Tag:noindex
X-PUBLISHED-TTL:PT1H
BEGIN:VTIMEZONE
TZID:America/Chicago
BEGIN:DAYLIGHT
TZOFFSETFROM:-0600
TZOFFSETTO:-0500
TZNAME:CDT
DTSTART:20230312T080000
END:DAYLIGHT
BEGIN:STANDARD
TZOFFSETFROM:-0500
TZOFFSETTO:-0600
TZNAME:CST
DTSTART:20231105T070000
END:STANDARD
BEGIN:DAYLIGHT
TZOFFSETFROM:-0600
TZOFFSETTO:-0500
TZNAME:CDT
DTSTART:20240310T080000
END:DAYLIGHT
BEGIN:STANDARD
TZOFFSETFROM:-0500
TZOFFSETTO:-0600
TZNAME:CST
DTSTART:20241103T070000
END:STANDARD
BEGIN:DAYLIGHT
TZOFFSETFROM:-0600
TZOFFSETTO:-0500
TZNAME:CDT
DTSTART:20250309T080000
END:DAYLIGHT
BEGIN:STANDARD
TZOFFSETFROM:-0500
TZOFFSETTO:-0600
TZNAME:CST
DTSTART:20251102T070000
END:STANDARD
END:VTIMEZONE
BEGIN:VEVENT
DTSTART;TZID=America/Chicago:20240913T100000
DTEND;TZID=America/Chicago:20240913T120000
DTSTAMP:20260422T073838
CREATED:20240402T191851Z
LAST-MODIFIED:20240402T191851Z
UID:12652-1726221600-1726228800@interhab.org
SUMMARY:Governmental Affairs Meeting
DESCRIPTION:
URL:https://interhab.org/event/governmental-affairs-meeting-150/
END:VEVENT
BEGIN:VEVENT
DTSTART;TZID=America/Chicago:20240913T133000
DTEND;TZID=America/Chicago:20240913T143000
DTSTAMP:20260422T073838
CREATED:20240605T142745Z
LAST-MODIFIED:20240819T135939Z
UID:15722-1726234200-1726237800@interhab.org
SUMMARY:First Non Profit Info Session:Surviving the Spooky Stuff: Protect Your Nonprofit from Unemployment and Cyber Threats
DESCRIPTION:Are you ready to face the eerie uncertainties of Friday the 13th? This special webinar\, tailored exclusively for nonprofits in Kansas\, will arm you with the knowledge to protect your organization from two of today’s most daunting threats: unemployment costs and cyber-attacks. \nWhat You’ll Learn: \n• Slash Your SUI Taxes: Unearth how to potentially trim your state unemployment insurance (SUI) taxes by up to 60% and ward off financial ghouls.\n• Beware the Legislation Boogeyman: Stay ahead of the creeping horror of pending federal regulations that could impact your unemployment costs in 2025.\n• Remote Compliance Nightmares: Master the tricks and treats of ensuring unemployment compliance for remote employees and avoid costly compliance scares.\n• Fend Off Cyber Threats: Defend your nonprofit from the 86% surge in cyber claims with cutting-edge strategies to banish digital goblins and secure your data. \nDon’t let the chills of Friday the 13th haunt your organization. Secure your spot today and learn how to protect your nonprofit from the scariest of threats!
URL:https://interhab.org/event/first-non-profit-info-session/
END:VEVENT
END:VCALENDAR