BEGIN:VCALENDAR
VERSION:2.0
PRODID:-//Interhab - ECPv6.15.11//NONSGML v1.0//EN
CALSCALE:GREGORIAN
METHOD:PUBLISH
X-ORIGINAL-URL:https://interhab.org
X-WR-CALDESC:Events for Interhab
REFRESH-INTERVAL;VALUE=DURATION:PT1H
X-Robots-Tag:noindex
X-PUBLISHED-TTL:PT1H
BEGIN:VTIMEZONE
TZID:America/Chicago
BEGIN:DAYLIGHT
TZOFFSETFROM:-0600
TZOFFSETTO:-0500
TZNAME:CDT
DTSTART:20230312T080000
END:DAYLIGHT
BEGIN:STANDARD
TZOFFSETFROM:-0500
TZOFFSETTO:-0600
TZNAME:CST
DTSTART:20231105T070000
END:STANDARD
BEGIN:DAYLIGHT
TZOFFSETFROM:-0600
TZOFFSETTO:-0500
TZNAME:CDT
DTSTART:20240310T080000
END:DAYLIGHT
BEGIN:STANDARD
TZOFFSETFROM:-0500
TZOFFSETTO:-0600
TZNAME:CST
DTSTART:20241103T070000
END:STANDARD
BEGIN:DAYLIGHT
TZOFFSETFROM:-0600
TZOFFSETTO:-0500
TZNAME:CDT
DTSTART:20250309T080000
END:DAYLIGHT
BEGIN:STANDARD
TZOFFSETFROM:-0500
TZOFFSETTO:-0600
TZNAME:CST
DTSTART:20251102T070000
END:STANDARD
END:VTIMEZONE
BEGIN:VEVENT
DTSTART;TZID=America/Chicago:20240424T110000
DTEND;TZID=America/Chicago:20240424T120000
DTSTAMP:20260420T020340
CREATED:20240105T185219Z
LAST-MODIFIED:20240105T190526Z
UID:9247-1713956400-1713960000@interhab.org
SUMMARY:Free CQL Training Opportunity - The ‘Right’ To An Effective Human Rights Committee
DESCRIPTION:Register here: https://us06web.zoom.us/webinar/register/WN_PycMCPwsTTGAJpeiWiTphA
URL:https://interhab.org/event/free-cql-training-opportunity-the-right-to-an-effective-human-rights-committee/
END:VEVENT
BEGIN:VEVENT
DTSTART;TZID=America/Chicago:20240424T140000
DTEND;TZID=America/Chicago:20240424T150000
DTSTAMP:20260420T020340
CREATED:20231221T143338Z
LAST-MODIFIED:20231221T143338Z
UID:8801-1713967200-1713970800@interhab.org
SUMMARY:Training - Shared Living
DESCRIPTION:
URL:https://interhab.org/event/training-shared-living/
END:VEVENT
END:VCALENDAR