BEGIN:VCALENDAR
VERSION:2.0
PRODID:-//Interhab - ECPv6.15.11//NONSGML v1.0//EN
CALSCALE:GREGORIAN
METHOD:PUBLISH
X-WR-CALNAME:Interhab
X-ORIGINAL-URL:https://interhab.org
X-WR-CALDESC:Events for Interhab
REFRESH-INTERVAL;VALUE=DURATION:PT1H
X-Robots-Tag:noindex
X-PUBLISHED-TTL:PT1H
BEGIN:VTIMEZONE
TZID:America/Chicago
BEGIN:DAYLIGHT
TZOFFSETFROM:-0600
TZOFFSETTO:-0500
TZNAME:CDT
DTSTART:20230312T080000
END:DAYLIGHT
BEGIN:STANDARD
TZOFFSETFROM:-0500
TZOFFSETTO:-0600
TZNAME:CST
DTSTART:20231105T070000
END:STANDARD
BEGIN:DAYLIGHT
TZOFFSETFROM:-0600
TZOFFSETTO:-0500
TZNAME:CDT
DTSTART:20240310T080000
END:DAYLIGHT
BEGIN:STANDARD
TZOFFSETFROM:-0500
TZOFFSETTO:-0600
TZNAME:CST
DTSTART:20241103T070000
END:STANDARD
BEGIN:DAYLIGHT
TZOFFSETFROM:-0600
TZOFFSETTO:-0500
TZNAME:CDT
DTSTART:20250309T080000
END:DAYLIGHT
BEGIN:STANDARD
TZOFFSETFROM:-0500
TZOFFSETTO:-0600
TZNAME:CST
DTSTART:20251102T070000
END:STANDARD
END:VTIMEZONE
BEGIN:VEVENT
DTSTART;TZID=America/Chicago:20240222T100000
DTEND;TZID=America/Chicago:20240222T110000
DTSTAMP:20260419T211214
CREATED:20240124T145715Z
LAST-MODIFIED:20240124T145715Z
UID:10667-1708596000-1708599600@interhab.org
SUMMARY:InterHab Champion Fund Oversight Committee
DESCRIPTION:
URL:https://interhab.org/event/interhab-champion-fund-oversight-committee/
END:VEVENT
BEGIN:VEVENT
DTSTART;TZID=America/Chicago:20240222T110000
DTEND;TZID=America/Chicago:20240222T120000
DTSTAMP:20260419T211214
CREATED:20240105T185025Z
LAST-MODIFIED:20240105T185025Z
UID:9243-1708599600-1708603200@interhab.org
SUMMARY:Free CQL Training Opportunity - Promoting Informed Choice Through “The Three E’s”
DESCRIPTION:Register here: https://us06web.zoom.us/webinar/register/WN_vioBGQ4hSNmigleLkU9snA
URL:https://interhab.org/event/free-cql-training-opportunity-promoting-informed-choice-through-the-three-es/
END:VEVENT
END:VCALENDAR